Package: aCGH Version: 1.85.0 Command: /home/biocbuild/R/R/bin/R CMD build --keep-empty-dirs --no-resave-data aCGH StartedAt: 2025-01-29 20:45:28 -0000 (Wed, 29 Jan 2025) EndedAt: 2025-01-29 20:46:05 -0000 (Wed, 29 Jan 2025) EllapsedTime: 37.0 seconds RetCode: 0 Status: OK PackageFile: aCGH_1.85.0.tar.gz PackageFileSize: 2.227 MiB