Package: aCGH Version: 1.85.0 Command: rm -rf aCGH.buildbin-libdir && mkdir aCGH.buildbin-libdir && /Users/biocbuild/BBS/utils/build-universal.sh aCGH_1.85.0.tar.gz /Library/Frameworks/R.framework/Resources/bin/R aCGH.buildbin-libdir StartedAt: 2025-02-09 22:05:12 -0500 (Sun, 09 Feb 2025) EndedAt: 2025-02-09 22:05:18 -0500 (Sun, 09 Feb 2025) EllapsedTime: 6.1 seconds RetCode: 0 Status: OK PackageFile: aCGH_1.85.0.tgz PackageFileSize: 2.497 MiB