Package: a4Reporting Version: 1.57.0 Command: /home/biocbuild/bbs-3.22-bioc/R/bin/R CMD build --keep-empty-dirs --no-resave-data --md5 a4Reporting StartedAt: 2025-09-29 16:22:50 -0400 (Mon, 29 Sep 2025) EndedAt: 2025-09-29 16:22:55 -0400 (Mon, 29 Sep 2025) EllapsedTime: 5.0 seconds RetCode: 0 Status: OK PackageFile: a4Reporting_1.57.0.tar.gz PackageFileSize: 293.2 KiB