Package: a4Reporting Version: 1.57.0 Command: /Library/Frameworks/R.framework/Resources/bin/R CMD INSTALL a4Reporting StartedAt: 2025-05-09 15:04:23 -0400 (Fri, 09 May 2025) EndedAt: 2025-05-09 15:04:54 -0400 (Fri, 09 May 2025) EllapsedTime: 31.3 seconds RetCode: 0 Status: OK