Package: a4Reporting Version: 1.57.0 Command: rm -rf a4Reporting.buildbin-libdir && mkdir a4Reporting.buildbin-libdir && /Users/biocbuild/BBS/utils/build-universal.sh a4Reporting_1.57.0.tar.gz /Library/Frameworks/R.framework/Resources/bin/R a4Reporting.buildbin-libdir StartedAt: 2025-05-10 00:34:07 -0400 (Sat, 10 May 2025) EndedAt: 2025-05-10 00:34:18 -0400 (Sat, 10 May 2025) EllapsedTime: 11.4 seconds RetCode: 0 Status: OK PackageFile: a4Reporting_1.57.0.tgz PackageFileSize: 433.4 KiB