Package: a4Preproc Version: 1.55.0 Command: rm -rf a4Preproc.buildbin-libdir && mkdir a4Preproc.buildbin-libdir && E:\biocbuild\bbs-3.21-bioc\R\bin\R.exe CMD INSTALL --build --library=a4Preproc.buildbin-libdir a4Preproc_1.55.0.tar.gz StartedAt: 2025-02-17 06:58:01 -0500 (Mon, 17 Feb 2025) EndedAt: 2025-02-17 06:58:15 -0500 (Mon, 17 Feb 2025) EllapsedTime: 14.3 seconds RetCode: 0 Status: OK PackageFile: a4Preproc_1.55.0.zip PackageFileSize: 300.2 KiB