Package: a4Preproc Version: 1.55.0 Command: /home/biocbuild/bbs-3.21-bioc/R/bin/R CMD build --keep-empty-dirs --no-resave-data a4Preproc StartedAt: 2025-02-16 16:10:23 -0500 (Sun, 16 Feb 2025) EndedAt: 2025-02-16 16:10:33 -0500 (Sun, 16 Feb 2025) EllapsedTime: 10.0 seconds RetCode: 0 Status: OK PackageFile: a4Preproc_1.55.0.tar.gz PackageFileSize: 288.5 KiB