Package: a4Preproc Version: 1.57.0 Maintainer: Laure Cougnaud MaintainerEmail: laure.cougnaud at openanalytics.eu git_url: https://git.bioconductor.org/packages/a4Preproc git_branch: devel git_last_commit: 6b82f5f git_last_commit_date: 2025-04-15 10:07:56 -0400 (Tue, 15 Apr 2025)