Package: a4Core Version: 1.57.0 Command: rm -rf a4Core.buildbin-libdir && mkdir a4Core.buildbin-libdir && F:\biocbuild\bbs-3.22-bioc\R\bin\R.exe CMD INSTALL --build --library=a4Core.buildbin-libdir a4Core_1.57.0.tar.gz StartedAt: 2025-08-15 09:41:08 -0400 (Fri, 15 Aug 2025) EndedAt: 2025-08-15 09:41:28 -0400 (Fri, 15 Aug 2025) EllapsedTime: 19.6 seconds RetCode: 0 Status: OK PackageFile: a4Core_1.57.0.zip PackageFileSize: 313.8 KiB