Package: a4Core Version: 1.59.0 Command: /home/biocbuild/bbs-3.23-bioc/R/bin/R CMD INSTALL a4Core StartedAt: 2025-11-05 15:20:03 -0500 (Wed, 05 Nov 2025) EndedAt: 2025-11-05 15:20:09 -0500 (Wed, 05 Nov 2025) EllapsedTime: 6.3 seconds RetCode: 0 Status: OK