Package: a4Core Version: 1.59.0 Command: /home/biocbuild/bbs-3.23-bioc/R/bin/R CMD build --keep-empty-dirs --no-resave-data a4Core StartedAt: 2025-11-05 16:14:00 -0500 (Wed, 05 Nov 2025) EndedAt: 2025-11-05 16:14:09 -0500 (Wed, 05 Nov 2025) EllapsedTime: 9.0 seconds RetCode: 0 Status: OK PackageFile: a4Core_1.59.0.tar.gz PackageFileSize: 290.5 KiB