Package: a4Core Version: 1.57.0 Command: /Library/Frameworks/R.framework/Resources/bin/R CMD INSTALL a4Core StartedAt: 2025-10-07 15:15:11 -0400 (Tue, 07 Oct 2025) EndedAt: 2025-10-07 15:15:28 -0400 (Tue, 07 Oct 2025) EllapsedTime: 17.4 seconds RetCode: 0 Status: OK