Package: a4Core Version: 1.57.0 Command: /Library/Frameworks/R.framework/Resources/bin/R CMD build --keep-empty-dirs --no-resave-data a4Core StartedAt: 2025-10-07 15:58:26 -0400 (Tue, 07 Oct 2025) EndedAt: 2025-10-07 15:58:42 -0400 (Tue, 07 Oct 2025) EllapsedTime: 15.1 seconds RetCode: 0 Status: OK PackageFile: a4Core_1.57.0.tar.gz PackageFileSize: 290.3 KiB