Package: a4Core Version: 1.57.0 Command: /Library/Frameworks/R.framework/Resources/bin/R CMD INSTALL a4Core StartedAt: 2025-10-01 15:08:12 -0400 (Wed, 01 Oct 2025) EndedAt: 2025-10-01 15:08:15 -0400 (Wed, 01 Oct 2025) EllapsedTime: 3.1 seconds RetCode: 0 Status: OK