Package: a4Base Version: 1.57.0 Command: /home/biocbuild/R/R/bin/R CMD build --keep-empty-dirs --no-resave-data a4Base StartedAt: 2025-10-20 21:35:41 -0000 (Mon, 20 Oct 2025) EndedAt: 2025-10-20 21:35:43 -0000 (Mon, 20 Oct 2025) EllapsedTime: 2.0 seconds RetCode: 0 Status: OK PackageFile: a4Base_1.57.0.tar.gz PackageFileSize: 366.5 KiB