Package: a4Base Version: 1.57.0 Command: /Library/Frameworks/R.framework/Resources/bin/R CMD INSTALL a4Base StartedAt: 2025-09-30 15:39:56 -0400 (Tue, 30 Sep 2025) EndedAt: 2025-09-30 15:40:25 -0400 (Tue, 30 Sep 2025) EllapsedTime: 29.7 seconds RetCode: 0 Status: OK