Package: a4Base Version: 1.57.0 Command: rm -rf a4Base.buildbin-libdir && mkdir a4Base.buildbin-libdir && /Users/biocbuild/BBS/utils/build-universal.sh a4Base_1.57.0.tar.gz /Library/Frameworks/R.framework/Resources/bin/R a4Base.buildbin-libdir StartedAt: 2025-10-01 01:29:13 -0400 (Wed, 01 Oct 2025) EndedAt: 2025-10-01 01:29:45 -0400 (Wed, 01 Oct 2025) EllapsedTime: 32.4 seconds RetCode: 0 Status: OK PackageFile: a4Base_1.57.0.tgz PackageFileSize: 570.8 KiB