Package: a4 Version: 1.57.0 Command: /home/biocbuild/bbs-3.22-bioc/R/bin/R CMD INSTALL a4 StartedAt: 2025-09-30 15:50:18 -0400 (Tue, 30 Sep 2025) EndedAt: 2025-09-30 15:50:37 -0400 (Tue, 30 Sep 2025) EllapsedTime: 19.2 seconds RetCode: 0 Status: OK