Package: ZygosityPredictor Version: 1.9.0 Command: /Library/Frameworks/R.framework/Resources/bin/R CMD check --install=check:ZygosityPredictor.install-out.txt --library=/Library/Frameworks/R.framework/Resources/library --no-vignettes --timings ZygosityPredictor_1.9.0.tar.gz StartedAt: 2025-05-23 00:11:34 -0400 (Fri, 23 May 2025) EndedAt: 2025-05-23 00:15:27 -0400 (Fri, 23 May 2025) EllapsedTime: 233.0 seconds RetCode: 0 Status: OK CheckDir: ZygosityPredictor.Rcheck Warnings: 0