Package: ZygosityPredictor Version: 1.9.0 Command: /Library/Frameworks/R.framework/Resources/bin/R CMD build --keep-empty-dirs --no-resave-data ZygosityPredictor StartedAt: 2025-05-22 18:44:24 -0400 (Thu, 22 May 2025) EndedAt: 2025-05-22 18:45:23 -0400 (Thu, 22 May 2025) EllapsedTime: 59.6 seconds RetCode: 0 Status: OK PackageFile: ZygosityPredictor_1.9.0.tar.gz PackageFileSize: 822.8 KiB