Package: ZygosityPredictor Version: 1.9.0 Command: rm -rf ZygosityPredictor.buildbin-libdir && mkdir ZygosityPredictor.buildbin-libdir && /Users/biocbuild/BBS/utils/build-universal.sh ZygosityPredictor_1.9.0.tar.gz /Library/Frameworks/R.framework/Resources/bin/R ZygosityPredictor.buildbin-libdir StartedAt: 2025-05-27 22:34:27 -0400 (Tue, 27 May 2025) EndedAt: 2025-05-27 22:34:43 -0400 (Tue, 27 May 2025) EllapsedTime: 16.4 seconds RetCode: 0 Status: OK PackageFile: ZygosityPredictor_1.9.0.tgz PackageFileSize: 979.2 KiB