Package: YAPSA Version: 1.35.0 Command: /Library/Frameworks/R.framework/Resources/bin/R CMD check --install=check:YAPSA.install-out.txt --library=/Library/Frameworks/R.framework/Resources/library --no-vignettes --timings YAPSA_1.35.0.tar.gz StartedAt: 2025-05-28 00:10:15 -0400 (Wed, 28 May 2025) EndedAt: 2025-05-28 00:17:17 -0400 (Wed, 28 May 2025) EllapsedTime: 421.2 seconds RetCode: 0 Status: OK CheckDir: YAPSA.Rcheck Warnings: 0