Package: YAPSA Version: 1.35.0 Command: rm -rf YAPSA.buildbin-libdir && mkdir YAPSA.buildbin-libdir && /Users/biocbuild/BBS/utils/build-universal.sh YAPSA_1.35.0.tar.gz /Library/Frameworks/R.framework/Resources/bin/R YAPSA.buildbin-libdir StartedAt: 2025-05-28 01:09:39 -0400 (Wed, 28 May 2025) EndedAt: 2025-05-28 01:10:46 -0400 (Wed, 28 May 2025) EllapsedTime: 66.7 seconds RetCode: 0 Status: OK PackageFile: YAPSA_1.35.0.tgz PackageFileSize: 4.413 MiB