Package: YAPSA Version: 1.35.0 Maintainer: Zuguang Gu MaintainerEmail: z.gu at dkfz.de git_url: https://git.bioconductor.org/packages/YAPSA git_branch: devel git_last_commit: 80377ce git_last_commit_date: 2025-04-15 11:04:42 -0400 (Tue, 15 Apr 2025)