Package: Xeva Version: 1.25.0 Command: /home/biocbuild/bbs-3.22-bioc/R/bin/R CMD INSTALL Xeva StartedAt: 2025-10-15 15:38:34 -0400 (Wed, 15 Oct 2025) EndedAt: 2025-10-15 15:39:11 -0400 (Wed, 15 Oct 2025) EllapsedTime: 37.8 seconds RetCode: 0 Status: OK