Package: Xeva Version: 1.25.0 Command: /home/biocbuild/bbs-3.22-bioc/R/bin/R CMD build --keep-empty-dirs --no-resave-data --md5 Xeva StartedAt: 2025-10-15 20:56:28 -0400 (Wed, 15 Oct 2025) EndedAt: 2025-10-15 20:57:40 -0400 (Wed, 15 Oct 2025) EllapsedTime: 72.1 seconds RetCode: 0 Status: OK PackageFile: Xeva_1.25.0.tar.gz PackageFileSize: 1.576 MiB