Package: Xeva Version: 1.25.0 Command: /Library/Frameworks/R.framework/Resources/bin/R CMD check --install=check:Xeva.install-out.txt --library=/Library/Frameworks/R.framework/Resources/library --no-vignettes --timings Xeva_1.25.0.tar.gz StartedAt: 2025-05-23 00:10:04 -0400 (Fri, 23 May 2025) EndedAt: 2025-05-23 00:14:18 -0400 (Fri, 23 May 2025) EllapsedTime: 254.5 seconds RetCode: 0 Status: OK CheckDir: Xeva.Rcheck Warnings: 0