Package: Xeva Version: 1.25.0 Command: /Library/Frameworks/R.framework/Resources/bin/R CMD build --keep-empty-dirs --no-resave-data Xeva StartedAt: 2025-05-22 18:43:15 -0400 (Thu, 22 May 2025) EndedAt: 2025-05-22 18:44:26 -0400 (Thu, 22 May 2025) EllapsedTime: 70.8 seconds RetCode: 0 Status: OK PackageFile: Xeva_1.25.0.tar.gz PackageFileSize: 1.571 MiB