Package: XeniumIO Version: 1.1.3 Command: /home/biocbuild/R/R/bin/R CMD INSTALL XeniumIO StartedAt: 2025-10-06 20:54:28 -0000 (Mon, 06 Oct 2025) EndedAt: 2025-10-06 20:54:59 -0000 (Mon, 06 Oct 2025) EllapsedTime: 31.2 seconds RetCode: 0 Status: OK