Package: XeniumIO Version: 1.1.3 Command: /home/biocbuild/R/R/bin/R CMD build --keep-empty-dirs --no-resave-data XeniumIO StartedAt: 2025-10-10 05:07:40 -0000 (Fri, 10 Oct 2025) EndedAt: 2025-10-10 05:08:27 -0000 (Fri, 10 Oct 2025) EllapsedTime: 47.0 seconds RetCode: 1 Status: ERROR PackageFile: None PackageFileSize: NA