Package: XeniumIO Version: 1.3.0 Command: /home/biocbuild/bbs-3.23-bioc/R/bin/R CMD INSTALL XeniumIO StartedAt: 2025-11-21 15:25:38 -0500 (Fri, 21 Nov 2025) EndedAt: 2025-11-21 15:26:03 -0500 (Fri, 21 Nov 2025) EllapsedTime: 24.7 seconds RetCode: 0 Status: OK