Package: XeniumIO Version: 1.3.0 Command: /home/biocbuild/bbs-3.23-bioc/R/bin/R CMD check --install=check:XeniumIO.install-out.txt --library=/home/biocbuild/bbs-3.23-bioc/R/site-library --timings XeniumIO_1.3.0.tar.gz StartedAt: 2025-11-26 05:23:42 -0500 (Wed, 26 Nov 2025) EndedAt: 2025-11-26 05:27:01 -0500 (Wed, 26 Nov 2025) EllapsedTime: 199.3 seconds RetCode: 0 Status: OK CheckDir: XeniumIO.Rcheck Warnings: 0