Package: XNAString Version: 1.17.0 Maintainer: Marianna Plucinska MaintainerEmail: marianna.plucinska at roche.com git_url: https://git.bioconductor.org/packages/XNAString git_branch: devel git_last_commit: c8a8025 git_last_commit_date: 2025-04-15 12:30:58 -0400 (Tue, 15 Apr 2025)