Package: XINA Version: 1.27.0 Command: /home/biocbuild/bbs-3.22-bioc/R/bin/R CMD INSTALL XINA StartedAt: 2025-10-01 15:13:38 -0400 (Wed, 01 Oct 2025) EndedAt: 2025-10-01 15:13:46 -0400 (Wed, 01 Oct 2025) EllapsedTime: 7.7 seconds RetCode: 0 Status: OK