Package: XDE Version: 2.55.0 Command: /home/biocbuild/R/R/bin/R CMD build --keep-empty-dirs --no-resave-data XDE StartedAt: 2025-10-07 03:56:31 -0000 (Tue, 07 Oct 2025) EndedAt: 2025-10-07 03:58:07 -0000 (Tue, 07 Oct 2025) EllapsedTime: 96.0 seconds RetCode: 0 Status: OK PackageFile: XDE_2.55.0.tar.gz PackageFileSize: 1.291 MiB