Package: XDE Version: 2.55.0 Command: F:\biocbuild\bbs-3.22-bioc\R\bin\R.exe CMD INSTALL XDE StartedAt: 2025-08-14 16:02:43 -0400 (Thu, 14 Aug 2025) EndedAt: 2025-08-14 16:04:28 -0400 (Thu, 14 Aug 2025) EllapsedTime: 105.2 seconds RetCode: 0 Status: OK