Package: XDE Version: 2.53.0 Command: /Library/Frameworks/R.framework/Resources/bin/R CMD build --keep-empty-dirs --no-resave-data XDE StartedAt: 2025-02-02 18:37:20 -0500 (Sun, 02 Feb 2025) EndedAt: 2025-02-02 18:38:38 -0500 (Sun, 02 Feb 2025) EllapsedTime: 77.4 seconds RetCode: 0 Status: OK PackageFile: XDE_2.53.0.tar.gz PackageFileSize: 1.317 MiB