Package: XDE Version: 2.53.0 Command: rm -rf XDE.buildbin-libdir && mkdir XDE.buildbin-libdir && /Users/biocbuild/BBS/utils/build-universal.sh XDE_2.53.0.tar.gz /Library/Frameworks/R.framework/Resources/bin/R XDE.buildbin-libdir StartedAt: 2025-02-03 00:51:07 -0500 (Mon, 03 Feb 2025) EndedAt: 2025-02-03 00:52:06 -0500 (Mon, 03 Feb 2025) EllapsedTime: 59.5 seconds RetCode: 0 Status: OK PackageFile: XDE_2.53.0.tgz PackageFileSize: 2.25 MiB