Package: XDE Version: 2.53.0 Command: /Library/Frameworks/R.framework/Resources/bin/R CMD INSTALL XDE StartedAt: 2025-01-31 15:23:04 -0500 (Fri, 31 Jan 2025) EndedAt: 2025-01-31 15:23:23 -0500 (Fri, 31 Jan 2025) EllapsedTime: 19.0 seconds RetCode: 0 Status: OK