Package: XDE Version: 2.53.0 Command: /Library/Frameworks/R.framework/Resources/bin/R CMD build --keep-empty-dirs --no-resave-data XDE StartedAt: 2025-01-31 17:56:04 -0500 (Fri, 31 Jan 2025) EndedAt: 2025-01-31 17:56:32 -0500 (Fri, 31 Jan 2025) EllapsedTime: 27.3 seconds RetCode: 0 Status: OK PackageFile: XDE_2.53.0.tar.gz PackageFileSize: 1.319 MiB