Package: XDE Version: 2.55.0 Maintainer: Robert Scharpf MaintainerEmail: rscharpf at jhsph.edu git_url: https://git.bioconductor.org/packages/XDE git_branch: devel git_last_commit: 75b91f1 git_last_commit_date: 2025-04-15 09:41:18 -0400 (Tue, 15 Apr 2025)