Package: XAItest Version: 1.3.0 Command: /home/biocbuild/bbs-3.23-bioc/R/bin/R CMD build --keep-empty-dirs --no-resave-data XAItest StartedAt: 2025-11-11 20:51:09 -0500 (Tue, 11 Nov 2025) EndedAt: 2025-11-11 20:53:05 -0500 (Tue, 11 Nov 2025) EllapsedTime: 116.1 seconds RetCode: 0 Status: OK PackageFile: XAItest_1.3.0.tar.gz PackageFileSize: 1.322 MiB