Package: XAItest Version: 1.1.5 Command: /Library/Frameworks/R.framework/Resources/bin/R CMD build --keep-empty-dirs --no-resave-data XAItest StartedAt: 2025-10-21 18:08:51 -0400 (Tue, 21 Oct 2025) EndedAt: 2025-10-21 18:09:59 -0400 (Tue, 21 Oct 2025) EllapsedTime: 67.8 seconds RetCode: 0 Status: OK PackageFile: XAItest_1.1.5.tar.gz PackageFileSize: 1.388 MiB