Package: XAItest Version: 1.1.5 Command: rm -rf XAItest.buildbin-libdir && mkdir XAItest.buildbin-libdir && /Users/biocbuild/BBS/utils/build-universal.sh XAItest_1.1.5.tar.gz /Library/Frameworks/R.framework/Resources/bin/R XAItest.buildbin-libdir StartedAt: 2025-10-21 23:22:12 -0400 (Tue, 21 Oct 2025) EndedAt: 2025-10-21 23:22:14 -0400 (Tue, 21 Oct 2025) EllapsedTime: 2.0 seconds RetCode: 0 Status: OK PackageFile: XAItest_1.1.5.tgz PackageFileSize: 1.02 MiB