Package: Wrench Version: 1.27.0 Command: chmod a+r Wrench -R && F:\biocbuild\bbs-3.22-bioc\R\bin\R.exe CMD build --keep-empty-dirs --no-resave-data Wrench StartedAt: 2025-08-15 00:00:55 -0400 (Fri, 15 Aug 2025) EndedAt: 2025-08-15 00:01:52 -0400 (Fri, 15 Aug 2025) EllapsedTime: 57.0 seconds RetCode: 0 Status: OK PackageFile: Wrench_1.27.0.tar.gz PackageFileSize: 224.9 KiB