Package: Wrench Version: 1.25.0 Command: /home/biocbuild/bbs-3.21-bioc/R/bin/R CMD INSTALL Wrench StartedAt: 2025-02-18 15:02:56 -0500 (Tue, 18 Feb 2025) EndedAt: 2025-02-18 15:03:17 -0500 (Tue, 18 Feb 2025) EllapsedTime: 21.2 seconds RetCode: 0 Status: OK