Package: Wrench Version: 1.25.0 Command: /home/biocbuild/bbs-3.21-bioc/R/bin/R CMD check --install=check:Wrench.install-out.txt --library=/home/biocbuild/bbs-3.21-bioc/R/site-library --timings Wrench_1.25.0.tar.gz StartedAt: 2025-02-19 03:19:15 -0500 (Wed, 19 Feb 2025) EndedAt: 2025-02-19 03:20:43 -0500 (Wed, 19 Feb 2025) EllapsedTime: 87.1 seconds RetCode: 0 Status: OK CheckDir: Wrench.Rcheck Warnings: 0