Package: Wrench Version: 1.25.0 Command: /home/biocbuild/bbs-3.21-bioc/R/bin/R CMD build --keep-empty-dirs --no-resave-data Wrench StartedAt: 2025-02-18 19:36:23 -0500 (Tue, 18 Feb 2025) EndedAt: 2025-02-18 19:37:06 -0500 (Tue, 18 Feb 2025) EllapsedTime: 43.1 seconds RetCode: 0 Status: OK PackageFile: Wrench_1.25.0.tar.gz PackageFileSize: 224.9 KiB