Package: VplotR Version: 1.19.1 Command: /home/biocbuild/R/R/bin/R CMD build --keep-empty-dirs --no-resave-data VplotR StartedAt: 2025-10-03 04:08:49 -0000 (Fri, 03 Oct 2025) EndedAt: 2025-10-03 04:10:53 -0000 (Fri, 03 Oct 2025) EllapsedTime: 124.0 seconds RetCode: 1 Status: ERROR PackageFile: None PackageFileSize: NA