Package: VplotR Version: 1.19.1 Command: rm -rf VplotR.buildbin-libdir && mkdir VplotR.buildbin-libdir && F:\biocbuild\bbs-3.22-bioc\R\bin\R.exe CMD INSTALL --build --library=VplotR.buildbin-libdir VplotR_1.19.1.tar.gz StartedAt: 2025-08-15 11:35:08 -0400 (Fri, 15 Aug 2025) EndedAt: 2025-08-15 11:35:47 -0400 (Fri, 15 Aug 2025) EllapsedTime: 38.6 seconds RetCode: 0 Status: OK PackageFile: VplotR_1.19.1.zip PackageFileSize: 5.121 MiB